BEGIN:VCALENDAR
VERSION:2.0
PRODID:-//Medien_Weiter_Bildung - ECPv6.15.20//NONSGML v1.0//EN
CALSCALE:GREGORIAN
METHOD:PUBLISH
X-ORIGINAL-URL:https://medien-weiter-bildung.de
X-WR-CALDESC:Veranstaltungen für Medien_Weiter_Bildung
REFRESH-INTERVAL;VALUE=DURATION:PT1H
X-Robots-Tag:noindex
X-PUBLISHED-TTL:PT1H
BEGIN:VTIMEZONE
TZID:Europe/Berlin
BEGIN:DAYLIGHT
TZOFFSETFROM:+0100
TZOFFSETTO:+0200
TZNAME:CEST
DTSTART:20250330T010000
END:DAYLIGHT
BEGIN:STANDARD
TZOFFSETFROM:+0200
TZOFFSETTO:+0100
TZNAME:CET
DTSTART:20251026T010000
END:STANDARD
BEGIN:DAYLIGHT
TZOFFSETFROM:+0100
TZOFFSETTO:+0200
TZNAME:CEST
DTSTART:20260329T010000
END:DAYLIGHT
BEGIN:STANDARD
TZOFFSETFROM:+0200
TZOFFSETTO:+0100
TZNAME:CET
DTSTART:20261025T010000
END:STANDARD
BEGIN:DAYLIGHT
TZOFFSETFROM:+0100
TZOFFSETTO:+0200
TZNAME:CEST
DTSTART:20270328T010000
END:DAYLIGHT
BEGIN:STANDARD
TZOFFSETFROM:+0200
TZOFFSETTO:+0100
TZNAME:CET
DTSTART:20271031T010000
END:STANDARD
END:VTIMEZONE
BEGIN:VEVENT
DTSTART;TZID=Europe/Berlin:20260618T110000
DTEND;TZID=Europe/Berlin:20260618T123000
DTSTAMP:20260422T184509
CREATED:20260422T060641Z
LAST-MODIFIED:20260422T060641Z
UID:10000179-1781780400-1781785800@medien-weiter-bildung.de
SUMMARY:Online-Seminar „KI verstehen & kreativ nutzen – Medienpädagogische Arbeit mit Kindern“ | 2026 | mit Katja Bröckl-Bergner
DESCRIPTION:Künstliche Intelligenz ist längst Teil unseres Alltags – doch wie können wir das Thema kindgerecht vermitteln und gleichzeitig kritisch reflektieren? \nIn unserem kostenfreien\, 90-minütigen Online-Seminar am Donnerstag\, den 18.06.2026\, von 11:00 – 12:30 Uhr\, erhalten pädagogische Fachkräfte und Interessierte einen praxisnahen Einstieg in die Welt der KI. Neben verständlichem Hintergrundwissen zu KI-Tools beleuchten wir auch zentrale gesellschaftliche Fragen wie Desinformation\, Diskriminierung\, prekäre Arbeitsbedingungen und Nachhaltigkeit. \nWeitere Informationen und die Anmeldung finden Sie hier: https://medien-weiter-bildung.de/online-seminar-ki-verstehen-kreativ-nutzen-2026/ \n\n\n  \n\n\n\n Nachname*\n \n \n Vorname*\n \n \n Institution*\n \n \n E-Mail-Adresse*\n \n \n Ihre Nachricht (optional)\n \n \n* Pflichtfeld\n \n Ich habe die  Datenschutzerklärung Veranstaltungen zur Kenntnis genommen\n \nBitte lasse dieses Feld leer.\n \n\n \n\n\n\n  \n 
URL:https://medien-weiter-bildung.de/veranstaltung/online-seminar-ki-verstehen-kreativ-nutzen-2026/
CATEGORIES:Online-Seminar
ATTACH;FMTTYPE=image/png:https://medien-weiter-bildung.de/wp-content/uploads/2026/04/Beitragsbild_OS_KI-verstehen-kreativ-nutzen_2026.png
END:VEVENT
END:VCALENDAR