BEGIN:VCALENDAR
VERSION:2.0
PRODID:-//Medien_Weiter_Bildung - ECPv6.15.20//NONSGML v1.0//EN
CALSCALE:GREGORIAN
METHOD:PUBLISH
X-ORIGINAL-URL:https://medien-weiter-bildung.de
X-WR-CALDESC:Veranstaltungen für Medien_Weiter_Bildung
REFRESH-INTERVAL;VALUE=DURATION:PT1H
X-Robots-Tag:noindex
X-PUBLISHED-TTL:PT1H
BEGIN:VTIMEZONE
TZID:Europe/Berlin
BEGIN:DAYLIGHT
TZOFFSETFROM:+0100
TZOFFSETTO:+0200
TZNAME:CEST
DTSTART:20240331T010000
END:DAYLIGHT
BEGIN:STANDARD
TZOFFSETFROM:+0200
TZOFFSETTO:+0100
TZNAME:CET
DTSTART:20241027T010000
END:STANDARD
BEGIN:DAYLIGHT
TZOFFSETFROM:+0100
TZOFFSETTO:+0200
TZNAME:CEST
DTSTART:20250330T010000
END:DAYLIGHT
BEGIN:STANDARD
TZOFFSETFROM:+0200
TZOFFSETTO:+0100
TZNAME:CET
DTSTART:20251026T010000
END:STANDARD
BEGIN:DAYLIGHT
TZOFFSETFROM:+0100
TZOFFSETTO:+0200
TZNAME:CEST
DTSTART:20260329T010000
END:DAYLIGHT
BEGIN:STANDARD
TZOFFSETFROM:+0200
TZOFFSETTO:+0100
TZNAME:CET
DTSTART:20261025T010000
END:STANDARD
BEGIN:DAYLIGHT
TZOFFSETFROM:+0100
TZOFFSETTO:+0200
TZNAME:CEST
DTSTART:20270328T010000
END:DAYLIGHT
BEGIN:STANDARD
TZOFFSETFROM:+0200
TZOFFSETTO:+0100
TZNAME:CET
DTSTART:20271031T010000
END:STANDARD
END:VTIMEZONE
BEGIN:VEVENT
DTSTART;TZID=Europe/Berlin:20260325T110000
DTEND;TZID=Europe/Berlin:20260325T123000
DTSTAMP:20260422T102344
CREATED:20260223T092104Z
LAST-MODIFIED:20260223T103313Z
UID:10000174-1774436400-1774441800@medien-weiter-bildung.de
SUMMARY:Online-Seminar „Medienhandeln von Jugendlichen“ | 2026 | mit Tina Drechsel
DESCRIPTION:Wie nutzen Jugendliche Medien? Was fasziniert sie an ihnen? Welche Medientrends sind gerade angesagt? Und wo wünschen sie sich Unterstützung? \nIm kostenfreien Online-Seminar am Mittwoch\, den 25. März 2026\, von 11:00 bis 12:30 Uhr\, steht das Medienhandeln von Jugendlichen im Zentrum. Die Teilnehmenden erhalten einen Einblick in medienpädagogische Angebote\, Materialien und Methoden zur Mediennutzung von Jugendlichen. Die Anmeldung sowie weitere Informationen zum Online-Seminar finden Sie unter diesem Link: https://medien-weiter-bildung.de/online-seminar-medienhandeln-von-jugendlichen-2026/ \n\n\n  \n\n\n\n Nachname*\n \n \n Vorname*\n \n \n Institution*\n \n \n E-Mail-Adresse*\n \n \n Ihre Nachricht (optional)\n \n \n* Pflichtfeld\n \n Ich habe die  Datenschutzerklärung Veranstaltungen zur Kenntnis genommen\n \nBitte lasse dieses Feld leer.
URL:https://medien-weiter-bildung.de/veranstaltung/online-seminar-medienhandeln-von-jugendlichen-2026/
CATEGORIES:Online-Seminar
ATTACH;FMTTYPE=image/png:https://medien-weiter-bildung.de/wp-content/uploads/2026/02/Beitragsbild_OS_Medienhandeln-von-Jugendlichen-2026.png
END:VEVENT
BEGIN:VEVENT
DTSTART;TZID=Europe/Berlin:20260324T110000
DTEND;TZID=Europe/Berlin:20260324T123000
DTSTAMP:20260422T102344
CREATED:20260223T102900Z
LAST-MODIFIED:20260223T185151Z
UID:10000175-1774350000-1774355400@medien-weiter-bildung.de
SUMMARY:Online-Seminar „Medienhandeln von Kindern von 6-12 Jahren“ | 2026 | mit Marie Kätzlmeier
DESCRIPTION:Kinder kommen von klein auf mit Medien in Berührung. Die Nutzung von (Online-)Medien erfüllt wichtige Entwicklungsaufgaben und Bedürfnisse bei Kindern. Gleichzeitig stoßen diese aber auch immer wieder auf Herausforderungen. \nIm kostenfreien Online-Seminar am Dienstag\, den 24. März 2026\, von 11:00 bis 12:30 Uhr\, gibt Marie Kätzlmeier Einblicke in die Mediennutzung von Kindern. Gemeinsam werden Methoden ausprobiert\, die Kinder dabei unterstützen\, Medien kompetent zu nutzen. Die Anmeldung sowie weitere Informationen zum Online-Seminar finden Sie unter diesem Link: https://medien-weiter-bildung.de/online-seminar-medienhandeln-von-kindern-2026/ \n\n\n  \n\n\n\n Nachname*\n \n \n Vorname*\n \n \n Institution*\n \n \n E-Mail-Adresse*\n \n \n Ihre Nachricht (optional)\n \n \n* Pflichtfeld\n \n Ich habe die  Datenschutzerklärung Veranstaltungen zur Kenntnis genommen\n \nBitte lasse dieses Feld leer.
URL:https://medien-weiter-bildung.de/veranstaltung/online-seminar-medienhandeln-von-kindern-von-6-12-jahren-2026-mit-marie-kaetzlmeier/
CATEGORIES:Online-Seminar
ATTACH;FMTTYPE=image/png:https://medien-weiter-bildung.de/wp-content/uploads/2026/02/Kopie-von-Beitragsbild_OS_Medienhandeln-von-Kindern-2026.png
END:VEVENT
BEGIN:VEVENT
DTSTART;TZID=Europe/Berlin:20260226T110000
DTEND;TZID=Europe/Berlin:20260226T123000
DTSTAMP:20260422T102344
CREATED:20260123T081820Z
LAST-MODIFIED:20260223T103337Z
UID:10000172-1772103600-1772109000@medien-weiter-bildung.de
SUMMARY:Online-Seminar „Jugendmedienschutz in der medienpädagogischen Praxis“ | 2026 | mit Britta Schülke
DESCRIPTION:Für pädagogische Fachkräfte stellen sich in Sachen Medien im beruflichen Kontext viele Fragen: Was ist rechtlich erlaubt? Wo liegen Grenzen? Und wie lassen sich digitale Dienste im Sinne des Jugendmedienschutz einsetzen? \nIm kostenfreien Online-Seminar am 26.02.2026 zeigt Britta Schülke\, wie Messenger\, soziale Netzwerke\, Games und Co rechtssicher und verantwortungsvoll in der (medien-)pädagogischen Arbeit genutzt werden können. Im Mittelpunkt steht\, Fachkräfte der Kinder- und Jugendhilfe zu befähigen\, ihre Angebote nach dem Jugendmedienschutz zu planen und durchzuführen. Die Anmeldung sowie weitere Informationen zum Online-Seminar finden Sie unter diesem Link: https://medien-weiter-bildung.de/online-seminar-jugendmedienschutz-2026/. \n\n\n  \n\n\n\n Nachname*\n \n \n Vorname*\n \n \n Institution*\n \n \n E-Mail-Adresse*\n \n \n Ihre Nachricht (optional)\n \n \n* Pflichtfeld\n \n Ich habe die  Datenschutzerklärung Veranstaltungen zur Kenntnis genommen\n \nBitte lasse dieses Feld leer.
URL:https://medien-weiter-bildung.de/veranstaltung/jugendmedienschutz-2026/
CATEGORIES:Online-Seminar
ATTACH;FMTTYPE=image/png:https://medien-weiter-bildung.de/wp-content/uploads/2024/12/jff_2025_mwb_os-jugendmedienschutz.png
END:VEVENT
BEGIN:VEVENT
DTSTART;TZID=Europe/Berlin:20260120T110000
DTEND;TZID=Europe/Berlin:20260120T123000
DTSTAMP:20260422T102344
CREATED:20251118T101839Z
LAST-MODIFIED:20251118T104413Z
UID:10000168-1768906800-1768912200@medien-weiter-bildung.de
SUMMARY:„Einstieg in die inklusive Medienarbeit“ | 20.01.2026 | 11:00 - 12:30 Uhr | mit Dr. Christine Ketzer und Bianca Rilinger
DESCRIPTION:Wie kann Medienarbeit so gestaltet werden\, dass alle jungen Menschen – mit und ohne Behinderung – teilhaben können? \nDas kostenfreie\, 90-minütige Online-Seminar am Dienstag\, den 20.01.2026\, mit Dr. Christine Ketzer und Bianca Rilinger bietet einen Einstieg in die Grundlagen inklusiver Medienarbeit und zeigt auf\, welche Haltung\, Methoden und Arbeitsweisen dafür zentral sind. Die Anmeldung sowie weitere Informationen zum Online-Seminar finden Sie unter diesem Link: https://medien-weiter-bildung.de/einstieg-in-die-inklusive-medienarbeit/ \n\n\n  \n\n\n\n Nachname*\n \n \n Vorname*\n \n \n Institution*\n \n \n E-Mail-Adresse*\n \n \n Ihre Nachricht (optional)\n \n \n* Pflichtfeld\n \n Ich habe die  Datenschutzerklärung Veranstaltungen zur Kenntnis genommen\n \nBitte lasse dieses Feld leer.\n \n\n \n\n\n\n 
URL:https://medien-weiter-bildung.de/veranstaltung/einstieg-in-die-inklusive-medienarbeit/
CATEGORIES:Online-Seminar
ATTACH;FMTTYPE=image/png:https://medien-weiter-bildung.de/wp-content/uploads/2025/11/Beitragsbild_OS_Einstieg-in-die-inklusive-Medienarbeit_20.01.26.png
END:VEVENT
BEGIN:VEVENT
DTSTART;TZID=Europe/Berlin:20251202T110000
DTEND;TZID=Europe/Berlin:20251202T123000
DTSTAMP:20260422T102344
CREATED:20251022T123958Z
LAST-MODIFIED:20251029T095239Z
UID:10000167-1764673200-1764678600@medien-weiter-bildung.de
SUMMARY:„Digitale Mündigkeit“ | 02.12.2025 | 11:00 - 12:30 Uhr | mit Leena Simon
DESCRIPTION:Haben Sie auch das Gefühl\, ständig Technik zu benutzen\, aber nicht wirklich zu verstehen\, was dabei passiert? Oder dass Passwörter eher lästig als sinnvoll sind? Damit sind Sie nicht allein. Digitale Geräte sollen uns das Leben erleichtern\, nehmen uns aber oft Entscheidungen ab – und damit auch Selbstbestimmung. \nIn unserem kostenfreien\, 90-minütigen Online-Seminar am Dienstag\, den 02.12.2025 mit Leena Simon von digitalcourage sprechen wir über digitale Mündigkeit. Die Anmeldung sowie weitere Informationen zum Seminar finden Sie unter diesem Link: https://medien-weiter-bildung.de/digitale-muendigkeit \n\n\n  \n\n\n\n Nachname*\n \n \n Vorname*\n \n \n Institution*\n \n \n E-Mail-Adresse*\n \n \n Ihre Nachricht (optional)\n \n \n* Pflichtfeld\n \n Ich habe die  Datenschutzerklärung Veranstaltungen zur Kenntnis genommen\n \nBitte lasse dieses Feld leer.
URL:https://medien-weiter-bildung.de/veranstaltung/digitale-muendigkeit/
CATEGORIES:Online-Seminar
ATTACH;FMTTYPE=image/jpeg:https://medien-weiter-bildung.de/wp-content/uploads/2025/10/Beitragsbild_Vorlage7.jpg
END:VEVENT
END:VCALENDAR